Workbook

Sheet Janeiro
A1: PASSAGENS AÉREAS PARA FUNCIONÁRIOS Período: 01/01/2017 a 31/01/2017
A2: DAIANE MARCELA SOUZA
A3: Companhia Aérea | B3: Emissão | C3: Localizador | D3: Origem/Destino | E3: IDA | G3: VOLTA | I3: Tarifa | J3: Taxas | K3: Valor Total
E4: Data | F4: Horário | G4: Data | H4: Horário
A5: Azul | B5: 42739 | C5: NGINMK | D5: BH/RECIFE | E5: 42741 | F5: 0.98263889 | G5: 42745 | H5: 0.69097222 | I5: 2258.59 | J5: 55.5 | K5: =I5+J5 -> 2314.09
A6: Evento: Reunião com a Presidente e o Procurador Geral do Coren-PE
A7: ANDREIA OLIVEIRA DE PAULA MURTA
A8: Companhia Aérea | B8: Emissão | C8: Localizador | D8: Origem/Destino | E8: IDA | G8: VOLTA | I8: Tarifa | J8: Taxas | K8: Valor Total
E9: Data | F9: Horário | G9: Data | H9: Horário
A10: AZUL | B10: 05/01/2017 | C10: BDUPVQ | D10: BH/RJ | E10: 42751 | F10: 0.875 | G10: 42754 | H10: 0.80555556 | I10: 546.79 | J10: 55.5 | K10: =I10+J10 -> 602.29
A11: Evento: Participação reunião Câmara Técnica de Fiscalização do Cofen
A12: MADALENA GONÇALVES ANDRADE
A13: Companhia Aérea | B13: Emissão | C13: Localizador | D13: Origem/Destino | E13: IDA | G13: VOLTA | I13: Tarifa | J13: Taxas | K13: Valor Total
E14: Data | F14: Horário | G14: Data | H14: Horário
A15: AZUL | B15: 05/01/2017 | C15: LHPM8E | D15: BH/RJ | E15: 42751 | F15: 0.875 | I15: 351.89 | J15: 27.82 | K15: =I15+J15 -> 379.71
A16: Evento: Participação reunião Câmara Técnica de Fiscalização do Cofen
A17: MADALENA GONÇALVES ANDRADE
A18: Companhia Aérea | B18: Emissão | C18: Localizador | D18: Origem/Destino | E18: IDA | G18: VOLTA | I18: Tarifa | J18: Taxas | K18: Valor Total
E19: Data | F19: Horário | G19: Data | H19: Horário
A20: GOL | B20: 05/01/2017 | C20: VFYW2C | D20: MOC/BH/RJ/MOC | E20: 42751 | F20: 0.25 | G20: 42754 | H20: 0.88194444 | I20: 950.35 | J20: 49.44 | K20: =I20+J20 -> 999.79
A21: Evento: Participação reunião Câmara Técnica de Fiscalização do Cofen
A22: EMERSON JANUÁRIO DA SILVA
A23: Companhia Aérea | B23: Emissão | C23: Localizador | D23: Origem/Destino | E23: IDA | G23: VOLTA | I23: Tarifa | J23: Taxas | K23: Valor Total
E24: Data | F24: Horário | G24: Data | H24: Horário
A25: LATAM | B25: 27/01 | C25: 2XXMXE | D25: BH/BSB | E25: 42764 | F25: 0.86111111 | G25: 42766 | H25: 0.58333333 | I25: 1241.9 | J25: 55.61 | K25: =I25+J25 -> 1297.51
A26: Evento:
A27: JORGE DE FREITAS SOUZA
A28: Companhia Aérea | B28: Emissão | C28: Localizador | D28: Origem/Destino | E28: IDA | G28: VOLTA | I28: Tarifa | J28: Taxas | K28: Valor Total
E29: Data | F29: Horário | G29: Data | H29: Horário
A30: LATAM | B30: 27/01 | C30: 2XXMXE | D30: BH/BSB | E30: 42764 | F30: 0.86111111 | G30: 42766 | H30: 0.58333333 | I30: 1241.9 | J30: 55.61 | K30: =I30+J30 -> 1297.51
A31: Evento:
A32: MARCO AURÉLIO DOS SANTOS
A33: Companhia Aérea | B33: Emissão | C33: Localizador | D33: Origem/Destino | E33: IDA | G33: VOLTA | I33: Tarifa | J33: Taxas | K33: Valor Total
E34: Data | F34: Horário | G34: Data | H34: Horário
A35: LATAM | B35: 27/01 | C35: 2XXMXE | D35: BH/BSB | E35: 42764 | F35: 0.86111111 | G35: 42766 | H35: 0.58333333 | I35: 1241.9 | J35: 55.61 | K35: =I35+J35 -> 1297.51
A36: Evento:
A37: PASSAGENS AÉREAS PARA FUNCIONÁRIOS Período: 01/01/2017 a 31/01/2017
A38: VIVIANE LETICIA MATIAS DOS SANTOS
A39: Companhia Aérea | B39: Emissão | C39: Localizador | D39: Origem/Destino | E39: IDA | G39: VOLTA | I39: Tarifa | J39: Taxas | K39: Valor Total
E40: Data | F40: Horário | G40: Data | H40: Horário
...

Sheet Fevereiro
A1: PASSAGENS AÉREAS Período: 01/02/2017 a 28/02/2017
A2: ADRIANO CORREA MARCELINO
A3: Companhia Aérea | B3: Emissão | C3: Localizador | D3: Origem/Destino | E3: IDA | G3: VOLTA | I3: Tarifa | J3: Taxas | K3: Valor Total
E4: Data | F4: Horário | G4: Data | H4: Horário
A5: AZUL | B5: 42786 | C5: GG3M6X | D5: BHZ/Campinas | E5: 42822 | F5: 0.63541667 | G5: 42824 | H5: 0.29861111 | I5: 167.8 | J5: 55.49 | K5: =I5+J5 -> 223.29
A6: Evento: Vistita técnica na Hellermann Tyton
A7: FERNANDO FERREIRA ALVES
A8: Companhia Aérea | B8: Emissão | C8: Localizador | D8: Origem/Destino | E8: IDA | G8: VOLTA | I8: Tarifa | J8: Taxas | K8: Valor Total
E9: Data | F9: Horário | G9: Data | H9: Horário
A10: AZUL | B10: 42786 | C10: GG3M6X | D10: BHZ/Campinas | E10: 42822 | F10: 0.63541667 | G10: 42824 | H10: 0.29861111 | I10: 167.8 | J10: 55.49 | K10: =I10+J10 -> 223.29
A11: Evento:
A12: JÚNIA LETÍCIA AUGUSTO
A13: Companhia Aérea | B13: Emissão | C13: Localizador | D13: Origem/Destino | E13: IDA | G13: VOLTA | I13: Tarifa | J13: Taxas | K13: Valor Total
E14: Data | F14: Horário | G14: Data | H14: Horário
A15: LATAM | B15: 22/02 | C15: 4J429W | D15: BHZ/RJ | E15: 42843 | F15: 0.75694444 | G15: 42845 | H15: 0.82986111 | I15: 300.8 | J15: 57.72 | K15: =I15+J15 -> 358.52
A16: Evento: Participação no II Seminário de Alinhamento Estratégico em Comunicação do Sistema Cofen/Conselhos Regionais.
A17: TOTAL | K17: =SUM(K5,K10,K15) -> 805.1

Sheet Março
A1: PASSAGENS AÉREAS Período: 01/03/2017 a 31/03/2017
A3: Companhia Aérea | B3: Emissão | C3: Localizador | D3: Origem/Destino | E3: IDA | G3: VOLTA | I3: Tarifa | J3: Taxas | K3: Valor Total
E4: Data | F4: Horário | G4: Data | H4: Horário
K5: =I5+J5 -> 0
A6: Evento:
A8: Companhia Aérea | B8: Emissão | C8: Localizador | D8: Origem/Destino | E8: IDA | G8: VOLTA | I8: Tarifa | J8: Taxas | K8: Valor Total
E9: Data | F9: Horário | G9: Data | H9: Horário
K10: =I10+J10 -> 0
A11: Evento:
A13: Companhia Aérea | B13: Emissão | C13: Localizador | D13: Origem/Destino | E13: IDA | G13: VOLTA | I13: Tarifa | J13: Taxas | K13: Valor Total
E14: Data | F14: Horário | G14: Data | H14: Horário
K15: =I15+J15 -> 0
A16: Evento:
A18: Companhia Aérea | B18: Emissão | C18: Localizador | D18: Origem/Destino | E18: IDA | G18: VOLTA | I18: Tarifa | J18: Taxas | K18: Valor Total
E19: Data | F19: Horário | G19: Data | H19: Horário
K20: =I20+J20 -> 0
A21: Evento:
A23: Companhia Aérea | B23: Emissão | C23: Localizador | D23: Origem/Destino | E23: IDA | G23: VOLTA | I23: Tarifa | J23: Taxas | K23: Valor Total
E24: Data | F24: Horário | G24: Data | H24: Horário
K25: =I25+J25 -> 0
A26: Evento:
A28: Companhia Aérea | B28: Emissão | C28: Localizador | D28: Origem/Destino | E28: IDA | G28: VOLTA | I28: Tarifa | J28: Taxas | K28: Valor Total
E29: Data | F29: Horário | G29: Data | H29: Horário
K30: =SUM(I30:J30) -> 0
A31: Evento:
A33: Companhia Aérea | B33: Emissão | C33: Localizador | D33: Origem/Destino | E33: IDA | G33: VOLTA | I33: Tarifa | J33: Taxas | K33: Valor Total
E34: Data | F34: Horário | G34: Data | H34: Horário
K35: =SUM(I35:J35) -> 0
A36: Evento:
A37: PASSAGENS AÉREAS Período: 01/03/2017 a 31/03/2017
A39: Companhia Aérea | B39: Emissão | C39: Localizador | D39: Origem/Destino | E39: IDA | G39: VOLTA | I39: Tarifa | J39: Taxas | K39: Valor Total
E40: Data | F40: Horário | G40: Data | H40: Horário
K41: =I41+J41 -> 0
A42: Evento:
A44: Companhia Aérea | B44: Emissão | C44: Localizador | D44: Origem/Destino | E44: IDA | G44: VOLTA | I44: Tarifa | J44: Taxas | K44: Valor Total
E45: Data | F45: Horário | G45: Data | H45: Horário
K46: =I46+J46 -> 0
A47: Evento:
A49: Companhia Aérea | B49: Emissão | C49: Localizador | D49: Origem/Destino | E49: IDA | G49: VOLTA | I49: Tarifa | J49: Taxas | K49: Valor Total
E50: Data | F50: Horário | G50: Data | H50: Horário
...

Sheet Abril
A1: PASSAGENS AÉREAS Período: 01/04/2017 a 30/04/2017
A3: Companhia Aérea | B3: Emissão | C3: Localizador | D3: Origem/Destino | E3: IDA | G3: VOLTA | I3: Tarifa | J3: Taxas | K3: Valor Total
E4: Data | F4: Horário | G4: Data | H4: Horário
K5: =I5+J5 -> 0
A6: Evento:
A8: Companhia Aérea | B8: Emissão | C8: Localizador | D8: Origem/Destino | E8: IDA | G8: VOLTA | I8: Tarifa | J8: Taxas | K8: Valor Total
E9: Data | F9: Horário | G9: Data | H9: Horário
K10: =I10+J10 -> 0
A11: Evento:
A13: Companhia Aérea | B13: Emissão | C13: Localizador | D13: Origem/Destino | E13: IDA | G13: VOLTA | I13: Tarifa | J13: Taxas | K13: Valor Total
E14: Data | F14: Horário | G14: Data | H14: Horário
K15: =I15+J15 -> 0
A16: Evento:
A18: Companhia Aérea | B18: Emissão | C18: Localizador | D18: Origem/Destino | E18: IDA | G18: VOLTA | I18: Tarifa | J18: Taxas | K18: Valor Total
E19: Data | F19: Horário | G19: Data | H19: Horário
K20: =I20+J20 -> 0
A21: Evento:
A23: Companhia Aérea | B23: Emissão | C23: Localizador | D23: Origem/Destino | E23: IDA | G23: VOLTA | I23: Tarifa | J23: Taxas | K23: Valor Total
E24: Data | F24: Horário | G24: Data | H24: Horário
K25: =I25+J25 -> 0
A26: Evento:
A28: Companhia Aérea | B28: Emissão | C28: Localizador | D28: Origem/Destino | E28: IDA | G28: VOLTA | I28: Tarifa | J28: Taxas | K28: Valor Total
E29: Data | F29: Horário | G29: Data | H29: Horário
K30: =SUM(I30:J30) -> 0
A31: Evento:
A33: Companhia Aérea | B33: Emissão | C33: Localizador | D33: Origem/Destino | E33: IDA | G33: VOLTA | I33: Tarifa | J33: Taxas | K33: Valor Total
E34: Data | F34: Horário | G34: Data | H34: Horário
K35: =SUM(I35:J35) -> 0
A36: Evento:
A37: PASSAGENS AÉREAS Período: 01/04/2017 a 30/04/2017
A39: Companhia Aérea | B39: Emissão | C39: Localizador | D39: Origem/Destino | E39: IDA | G39: VOLTA | I39: Tarifa | J39: Taxas | K39: Valor Total
E40: Data | F40: Horário | G40: Data | H40: Horário
K41: =I41+J41 -> 0
A42: Evento:
A44: Companhia Aérea | B44: Emissão | C44: Localizador | D44: Origem/Destino | E44: IDA | G44: VOLTA | I44: Tarifa | J44: Taxas | K44: Valor Total
E45: Data | F45: Horário | G45: Data | H45: Horário
K46: =I46+J46 -> 0
A47: Evento:
A49: Companhia Aérea | B49: Emissão | C49: Localizador | D49: Origem/Destino | E49: IDA | G49: VOLTA | I49: Tarifa | J49: Taxas | K49: Valor Total
E50: Data | F50: Horário | G50: Data | H50: Horário
...

Sheet Maio
A1: PASSAGENS AÉREAS Período: 01/05/2017 a 31/05/2017
A3: Companhia Aérea | B3: Emissão | C3: Localizador | D3: Origem/Destino | E3: IDA | G3: VOLTA | I3: Tarifa | J3: Taxas | K3: Valor Total
E4: Data | F4: Horário | G4: Data | H4: Horário
K5: =I5+J5 -> 0
A6: Evento:
A8: Companhia Aérea | B8: Emissão | C8: Localizador | D8: Origem/Destino | E8: IDA | G8: VOLTA | I8: Tarifa | J8: Taxas | K8: Valor Total
E9: Data | F9: Horário | G9: Data | H9: Horário
K10: =I10+J10 -> 0
A11: Evento:
A13: Companhia Aérea | B13: Emissão | C13: Localizador | D13: Origem/Destino | E13: IDA | G13: VOLTA | I13: Tarifa | J13: Taxas | K13: Valor Total
E14: Data | F14: Horário | G14: Data | H14: Horário
K15: =I15+J15 -> 0
A16: Evento:
A18: Companhia Aérea | B18: Emissão | C18: Localizador | D18: Origem/Destino | E18: IDA | G18: VOLTA | I18: Tarifa | J18: Taxas | K18: Valor Total
E19: Data | F19: Horário | G19: Data | H19: Horário
K20: =I20+J20 -> 0
A21: Evento:
A23: Companhia Aérea | B23: Emissão | C23: Localizador | D23: Origem/Destino | E23: IDA | G23: VOLTA | I23: Tarifa | J23: Taxas | K23: Valor Total
E24: Data | F24: Horário | G24: Data | H24: Horário
K25: =I25+J25 -> 0
A26: Evento:
A28: Companhia Aérea | B28: Emissão | C28: Localizador | D28: Origem/Destino | E28: IDA | G28: VOLTA | I28: Tarifa | J28: Taxas | K28: Valor Total
E29: Data | F29: Horário | G29: Data | H29: Horário
K30: =SUM(I30:J30) -> 0
A31: Evento:
A33: Companhia Aérea | B33: Emissão | C33: Localizador | D33: Origem/Destino | E33: IDA | G33: VOLTA | I33: Tarifa | J33: Taxas | K33: Valor Total
E34: Data | F34: Horário | G34: Data | H34: Horário
K35: =SUM(I35:J35) -> 0
A36: Evento:
A37: PASSAGENS AÉREAS Período: 01/05/2017 a 31/05/2017
A39: Companhia Aérea | B39: Emissão | C39: Localizador | D39: Origem/Destino | E39: IDA | G39: VOLTA | I39: Tarifa | J39: Taxas | K39: Valor Total
E40: Data | F40: Horário | G40: Data | H40: Horário
K41: =I41+J41 -> 0
A42: Evento:
A44: Companhia Aérea | B44: Emissão | C44: Localizador | D44: Origem/Destino | E44: IDA | G44: VOLTA | I44: Tarifa | J44: Taxas | K44: Valor Total
E45: Data | F45: Horário | G45: Data | H45: Horário
K46: =I46+J46 -> 0
A47: Evento:
A49: Companhia Aérea | B49: Emissão | C49: Localizador | D49: Origem/Destino | E49: IDA | G49: VOLTA | I49: Tarifa | J49: Taxas | K49: Valor Total
E50: Data | F50: Horário | G50: Data | H50: Horário
...

Sheet Junho
A1: PASSAGENS AÉREAS Período: 01/06/2017 a 30/06/2017
A3: Companhia Aérea | B3: Emissão | C3: Localizador | D3: Origem/Destino | E3: IDA | G3: VOLTA | I3: Tarifa | J3: Taxas | K3: Valor Total
E4: Data | F4: Horário | G4: Data | H4: Horário
K5: =I5+J5 -> 0
A6: Evento:
A8: Companhia Aérea | B8: Emissão | C8: Localizador | D8: Origem/Destino | E8: IDA | G8: VOLTA | I8: Tarifa | J8: Taxas | K8: Valor Total
E9: Data | F9: Horário | G9: Data | H9: Horário
K10: =I10+J10 -> 0
A11: Evento:
A13: Companhia Aérea | B13: Emissão | C13: Localizador | D13: Origem/Destino | E13: IDA | G13: VOLTA | I13: Tarifa | J13: Taxas | K13: Valor Total
E14: Data | F14: Horário | G14: Data | H14: Horário
K15: =I15+J15 -> 0
A16: Evento:
A18: Companhia Aérea | B18: Emissão | C18: Localizador | D18: Origem/Destino | E18: IDA | G18: VOLTA | I18: Tarifa | J18: Taxas | K18: Valor Total
E19: Data | F19: Horário | G19: Data | H19: Horário
K20: =I20+J20 -> 0
A21: Evento:
A23: Companhia Aérea | B23: Emissão | C23: Localizador | D23: Origem/Destino | E23: IDA | G23: VOLTA | I23: Tarifa | J23: Taxas | K23: Valor Total
E24: Data | F24: Horário | G24: Data | H24: Horário
K25: =I25+J25 -> 0
A26: Evento:
A28: Companhia Aérea | B28: Emissão | C28: Localizador | D28: Origem/Destino | E28: IDA | G28: VOLTA | I28: Tarifa | J28: Taxas | K28: Valor Total
E29: Data | F29: Horário | G29: Data | H29: Horário
K30: =SUM(I30:J30) -> 0
A31: Evento:
A33: Companhia Aérea | B33: Emissão | C33: Localizador | D33: Origem/Destino | E33: IDA | G33: VOLTA | I33: Tarifa | J33: Taxas | K33: Valor Total
E34: Data | F34: Horário | G34: Data | H34: Horário
K35: =SUM(I35:J35) -> 0
A36: Evento:
A37: PASSAGENS AÉREAS Período: 01/06/2017 a 30/06/2017
A39: Companhia Aérea | B39: Emissão | C39: Localizador | D39: Origem/Destino | E39: IDA | G39: VOLTA | I39: Tarifa | J39: Taxas | K39: Valor Total
E40: Data | F40: Horário | G40: Data | H40: Horário
K41: =I41+J41 -> 0
A42: Evento:
A44: Companhia Aérea | B44: Emissão | C44: Localizador | D44: Origem/Destino | E44: IDA | G44: VOLTA | I44: Tarifa | J44: Taxas | K44: Valor Total
E45: Data | F45: Horário | G45: Data | H45: Horário
K46: =I46+J46 -> 0
A47: Evento:
A49: Companhia Aérea | B49: Emissão | C49: Localizador | D49: Origem/Destino | E49: IDA | G49: VOLTA | I49: Tarifa | J49: Taxas | K49: Valor Total
E50: Data | F50: Horário | G50: Data | H50: Horário
...

Sheet Julho
A1: PASSAGENS AÉREAS Período: 01/07/2017 a 31/07/2017
A3: Companhia Aérea | B3: Emissão | C3: Localizador | D3: Origem/Destino | E3: IDA | G3: VOLTA | I3: Tarifa | J3: Taxas | K3: Valor Total
E4: Data | F4: Horário | G4: Data | H4: Horário
K5: =I5+J5 -> 0
A6: Evento:
A8: Companhia Aérea | B8: Emissão | C8: Localizador | D8: Origem/Destino | E8: IDA | G8: VOLTA | I8: Tarifa | J8: Taxas | K8: Valor Total
E9: Data | F9: Horário | G9: Data | H9: Horário
K10: =I10+J10 -> 0
A11: Evento:
A13: Companhia Aérea | B13: Emissão | C13: Localizador | D13: Origem/Destino | E13: IDA | G13: VOLTA | I13: Tarifa | J13: Taxas | K13: Valor Total
E14: Data | F14: Horário | G14: Data | H14: Horário
K15: =I15+J15 -> 0
A16: Evento:
A18: Companhia Aérea | B18: Emissão | C18: Localizador | D18: Origem/Destino | E18: IDA | G18: VOLTA | I18: Tarifa | J18: Taxas | K18: Valor Total
E19: Data | F19: Horário | G19: Data | H19: Horário
K20: =I20+J20 -> 0
A21: Evento:
A23: Companhia Aérea | B23: Emissão | C23: Localizador | D23: Origem/Destino | E23: IDA | G23: VOLTA | I23: Tarifa | J23: Taxas | K23: Valor Total
E24: Data | F24: Horário | G24: Data | H24: Horário
K25: =I25+J25 -> 0
A26: Evento:
A28: Companhia Aérea | B28: Emissão | C28: Localizador | D28: Origem/Destino | E28: IDA | G28: VOLTA | I28: Tarifa | J28: Taxas | K28: Valor Total
E29: Data | F29: Horário | G29: Data | H29: Horário
K30: =SUM(I30:J30) -> 0
A31: Evento:
A33: Companhia Aérea | B33: Emissão | C33: Localizador | D33: Origem/Destino | E33: IDA | G33: VOLTA | I33: Tarifa | J33: Taxas | K33: Valor Total
E34: Data | F34: Horário | G34: Data | H34: Horário
K35: =SUM(I35:J35) -> 0
A36: Evento:
A37: PASSAGENS AÉREAS Período: 01/07/2017 a 31/07/2017
A39: Companhia Aérea | B39: Emissão | C39: Localizador | D39: Origem/Destino | E39: IDA | G39: VOLTA | I39: Tarifa | J39: Taxas | K39: Valor Total
E40: Data | F40: Horário | G40: Data | H40: Horário
K41: =I41+J41 -> 0
A42: Evento:
A44: Companhia Aérea | B44: Emissão | C44: Localizador | D44: Origem/Destino | E44: IDA | G44: VOLTA | I44: Tarifa | J44: Taxas | K44: Valor Total
E45: Data | F45: Horário | G45: Data | H45: Horário
K46: =I46+J46 -> 0
A47: Evento:
A49: Companhia Aérea | B49: Emissão | C49: Localizador | D49: Origem/Destino | E49: IDA | G49: VOLTA | I49: Tarifa | J49: Taxas | K49: Valor Total
E50: Data | F50: Horário | G50: Data | H50: Horário
...

Sheet Agosto
A1: PASSAGENS AÉREAS Período: 01/08/2017 a 31/08/2017
A3: Companhia Aérea | B3: Emissão | C3: Localizador | D3: Origem/Destino | E3: IDA | G3: VOLTA | I3: Tarifa | J3: Taxas | K3: Valor Total
E4: Data | F4: Horário | G4: Data | H4: Horário
K5: =I5+J5 -> 0
A6: Evento:
A8: Companhia Aérea | B8: Emissão | C8: Localizador | D8: Origem/Destino | E8: IDA | G8: VOLTA | I8: Tarifa | J8: Taxas | K8: Valor Total
E9: Data | F9: Horário | G9: Data | H9: Horário
K10: =I10+J10 -> 0
A11: Evento:
A13: Companhia Aérea | B13: Emissão | C13: Localizador | D13: Origem/Destino | E13: IDA | G13: VOLTA | I13: Tarifa | J13: Taxas | K13: Valor Total
E14: Data | F14: Horário | G14: Data | H14: Horário
K15: =I15+J15 -> 0
A16: Evento:
A18: Companhia Aérea | B18: Emissão | C18: Localizador | D18: Origem/Destino | E18: IDA | G18: VOLTA | I18: Tarifa | J18: Taxas | K18: Valor Total
E19: Data | F19: Horário | G19: Data | H19: Horário
K20: =I20+J20 -> 0
A21: Evento:
A23: Companhia Aérea | B23: Emissão | C23: Localizador | D23: Origem/Destino | E23: IDA | G23: VOLTA | I23: Tarifa | J23: Taxas | K23: Valor Total
E24: Data | F24: Horário | G24: Data | H24: Horário
K25: =I25+J25 -> 0
A26: Evento:
A28: Companhia Aérea | B28: Emissão | C28: Localizador | D28: Origem/Destino | E28: IDA | G28: VOLTA | I28: Tarifa | J28: Taxas | K28: Valor Total
E29: Data | F29: Horário | G29: Data | H29: Horário
K30: =SUM(I30:J30) -> 0
A31: Evento:
A33: Companhia Aérea | B33: Emissão | C33: Localizador | D33: Origem/Destino | E33: IDA | G33: VOLTA | I33: Tarifa | J33: Taxas | K33: Valor Total
E34: Data | F34: Horário | G34: Data | H34: Horário
K35: =SUM(I35:J35) -> 0
A36: Evento:
A37: PASSAGENS AÉREAS Período: 01/08/2017 a 31/08/2017
A39: Companhia Aérea | B39: Emissão | C39: Localizador | D39: Origem/Destino | E39: IDA | G39: VOLTA | I39: Tarifa | J39: Taxas | K39: Valor Total
E40: Data | F40: Horário | G40: Data | H40: Horário
K41: =I41+J41 -> 0
A42: Evento:
A44: Companhia Aérea | B44: Emissão | C44: Localizador | D44: Origem/Destino | E44: IDA | G44: VOLTA | I44: Tarifa | J44: Taxas | K44: Valor Total
E45: Data | F45: Horário | G45: Data | H45: Horário
K46: =I46+J46 -> 0
A47: Evento:
A49: Companhia Aérea | B49: Emissão | C49: Localizador | D49: Origem/Destino | E49: IDA | G49: VOLTA | I49: Tarifa | J49: Taxas | K49: Valor Total
E50: Data | F50: Horário | G50: Data | H50: Horário
...

Sheet Setembro
A1: PASSAGENS AÉREAS Período: 01/09/2017 a 30/09/2017
A3: Companhia Aérea | B3: Emissão | C3: Localizador | D3: Origem/Destino | E3: IDA | G3: VOLTA | I3: Tarifa | J3: Taxas | K3: Valor Total
E4: Data | F4: Horário | G4: Data | H4: Horário
K5: =I5+J5 -> 0
A6: Evento:
A8: Companhia Aérea | B8: Emissão | C8: Localizador | D8: Origem/Destino | E8: IDA | G8: VOLTA | I8: Tarifa | J8: Taxas | K8: Valor Total
E9: Data | F9: Horário | G9: Data | H9: Horário
K10: =I10+J10 -> 0
A11: Evento:
A13: Companhia Aérea | B13: Emissão | C13: Localizador | D13: Origem/Destino | E13: IDA | G13: VOLTA | I13: Tarifa | J13: Taxas | K13: Valor Total
E14: Data | F14: Horário | G14: Data | H14: Horário
K15: =I15+J15 -> 0
A16: Evento:
A18: Companhia Aérea | B18: Emissão | C18: Localizador | D18: Origem/Destino | E18: IDA | G18: VOLTA | I18: Tarifa | J18: Taxas | K18: Valor Total
E19: Data | F19: Horário | G19: Data | H19: Horário
K20: =I20+J20 -> 0
A21: Evento:
A23: Companhia Aérea | B23: Emissão | C23: Localizador | D23: Origem/Destino | E23: IDA | G23: VOLTA | I23: Tarifa | J23: Taxas | K23: Valor Total
E24: Data | F24: Horário | G24: Data | H24: Horário
K25: =I25+J25 -> 0
A26: Evento:
A28: Companhia Aérea | B28: Emissão | C28: Localizador | D28: Origem/Destino | E28: IDA | G28: VOLTA | I28: Tarifa | J28: Taxas | K28: Valor Total
E29: Data | F29: Horário | G29: Data | H29: Horário
K30: =SUM(I30:J30) -> 0
A31: Evento:
A33: Companhia Aérea | B33: Emissão | C33: Localizador | D33: Origem/Destino | E33: IDA | G33: VOLTA | I33: Tarifa | J33: Taxas | K33: Valor Total
E34: Data | F34: Horário | G34: Data | H34: Horário
K35: =SUM(I35:J35) -> 0
A36: Evento:
A37: PASSAGENS AÉREAS Período: 01/09/2017 a 30/09/2017
A39: Companhia Aérea | B39: Emissão | C39: Localizador | D39: Origem/Destino | E39: IDA | G39: VOLTA | I39: Tarifa | J39: Taxas | K39: Valor Total
E40: Data | F40: Horário | G40: Data | H40: Horário
K41: =I41+J41 -> 0
A42: Evento:
A44: Companhia Aérea | B44: Emissão | C44: Localizador | D44: Origem/Destino | E44: IDA | G44: VOLTA | I44: Tarifa | J44: Taxas | K44: Valor Total
E45: Data | F45: Horário | G45: Data | H45: Horário
K46: =I46+J46 -> 0
A47: Evento:
A49: Companhia Aérea | B49: Emissão | C49: Localizador | D49: Origem/Destino | E49: IDA | G49: VOLTA | I49: Tarifa | J49: Taxas | K49: Valor Total
E50: Data | F50: Horário | G50: Data | H50: Horário
...

Sheet Outubro
A1: PASSAGENS AÉREAS Período: 01/10/2017 a 31/10/2017
A3: Companhia Aérea | B3: Emissão | C3: Localizador | D3: Origem/Destino | E3: IDA | G3: VOLTA | I3: Tarifa | J3: Taxas | K3: Valor Total
E4: Data | F4: Horário | G4: Data | H4: Horário
K5: =I5+J5 -> 0
A6: Evento:
A8: Companhia Aérea | B8: Emissão | C8: Localizador | D8: Origem/Destino | E8: IDA | G8: VOLTA | I8: Tarifa | J8: Taxas | K8: Valor Total
E9: Data | F9: Horário | G9: Data | H9: Horário
K10: =I10+J10 -> 0
A11: Evento:
A13: Companhia Aérea | B13: Emissão | C13: Localizador | D13: Origem/Destino | E13: IDA | G13: VOLTA | I13: Tarifa | J13: Taxas | K13: Valor Total
E14: Data | F14: Horário | G14: Data | H14: Horário
K15: =I15+J15 -> 0
A16: Evento:
A18: Companhia Aérea | B18: Emissão | C18: Localizador | D18: Origem/Destino | E18: IDA | G18: VOLTA | I18: Tarifa | J18: Taxas | K18: Valor Total
E19: Data | F19: Horário | G19: Data | H19: Horário
K20: =I20+J20 -> 0
A21: Evento:
A23: Companhia Aérea | B23: Emissão | C23: Localizador | D23: Origem/Destino | E23: IDA | G23: VOLTA | I23: Tarifa | J23: Taxas | K23: Valor Total
E24: Data | F24: Horário | G24: Data | H24: Horário
K25: =I25+J25 -> 0
A26: Evento:
A28: Companhia Aérea | B28: Emissão | C28: Localizador | D28: Origem/Destino | E28: IDA | G28: VOLTA | I28: Tarifa | J28: Taxas | K28: Valor Total
E29: Data | F29: Horário | G29: Data | H29: Horário
K30: =SUM(I30:J30) -> 0
A31: Evento:
A33: Companhia Aérea | B33: Emissão | C33: Localizador | D33: Origem/Destino | E33: IDA | G33: VOLTA | I33: Tarifa | J33: Taxas | K33: Valor Total
E34: Data | F34: Horário | G34: Data | H34: Horário
K35: =SUM(I35:J35) -> 0
A36: Evento:
A37: PASSAGENS AÉREAS Período: 01/10/2017 a 31/10/2017
A39: Companhia Aérea | B39: Emissão | C39: Localizador | D39: Origem/Destino | E39: IDA | G39: VOLTA | I39: Tarifa | J39: Taxas | K39: Valor Total
E40: Data | F40: Horário | G40: Data | H40: Horário
K41: =I41+J41 -> 0
A42: Evento:
A44: Companhia Aérea | B44: Emissão | C44: Localizador | D44: Origem/Destino | E44: IDA | G44: VOLTA | I44: Tarifa | J44: Taxas | K44: Valor Total
E45: Data | F45: Horário | G45: Data | H45: Horário
K46: =I46+J46 -> 0
A47: Evento:
A49: Companhia Aérea | B49: Emissão | C49: Localizador | D49: Origem/Destino | E49: IDA | G49: VOLTA | I49: Tarifa | J49: Taxas | K49: Valor Total
E50: Data | F50: Horário | G50: Data | H50: Horário
...

Sheet Novembro
A1: PASSAGENS AÉREAS Período: 01/11/2017 a 30/11/2017
A3: Companhia Aérea | B3: Emissão | C3: Localizador | D3: Origem/Destino | E3: IDA | G3: VOLTA | I3: Tarifa | J3: Taxas | K3: Valor Total
E4: Data | F4: Horário | G4: Data | H4: Horário
K5: =I5+J5 -> 0
A6: Evento:
A8: Companhia Aérea | B8: Emissão | C8: Localizador | D8: Origem/Destino | E8: IDA | G8: VOLTA | I8: Tarifa | J8: Taxas | K8: Valor Total
E9: Data | F9: Horário | G9: Data | H9: Horário
K10: =I10+J10 -> 0
A11: Evento:
A13: Companhia Aérea | B13: Emissão | C13: Localizador | D13: Origem/Destino | E13: IDA | G13: VOLTA | I13: Tarifa | J13: Taxas | K13: Valor Total
E14: Data | F14: Horário | G14: Data | H14: Horário
K15: =I15+J15 -> 0
A16: Evento:
A18: Companhia Aérea | B18: Emissão | C18: Localizador | D18: Origem/Destino | E18: IDA | G18: VOLTA | I18: Tarifa | J18: Taxas | K18: Valor Total
E19: Data | F19: Horário | G19: Data | H19: Horário
K20: =I20+J20 -> 0
A21: Evento:
A23: Companhia Aérea | B23: Emissão | C23: Localizador | D23: Origem/Destino | E23: IDA | G23: VOLTA | I23: Tarifa | J23: Taxas | K23: Valor Total
E24: Data | F24: Horário | G24: Data | H24: Horário
K25: =I25+J25 -> 0
A26: Evento:
A28: Companhia Aérea | B28: Emissão | C28: Localizador | D28: Origem/Destino | E28: IDA | G28: VOLTA | I28: Tarifa | J28: Taxas | K28: Valor Total
E29: Data | F29: Horário | G29: Data | H29: Horário
K30: =SUM(I30:J30) -> 0
A31: Evento:
A33: Companhia Aérea | B33: Emissão | C33: Localizador | D33: Origem/Destino | E33: IDA | G33: VOLTA | I33: Tarifa | J33: Taxas | K33: Valor Total
E34: Data | F34: Horário | G34: Data | H34: Horário
K35: =SUM(I35:J35) -> 0
A36: Evento:
A37: PASSAGENS AÉREAS Período: 01/11/2017 a 30/11/2017
A39: Companhia Aérea | B39: Emissão | C39: Localizador | D39: Origem/Destino | E39: IDA | G39: VOLTA | I39: Tarifa | J39: Taxas | K39: Valor Total
E40: Data | F40: Horário | G40: Data | H40: Horário
K41: =I41+J41 -> 0
A42: Evento:
A44: Companhia Aérea | B44: Emissão | C44: Localizador | D44: Origem/Destino | E44: IDA | G44: VOLTA | I44: Tarifa | J44: Taxas | K44: Valor Total
E45: Data | F45: Horário | G45: Data | H45: Horário
K46: =I46+J46 -> 0
A47: Evento:
A49: Companhia Aérea | B49: Emissão | C49: Localizador | D49: Origem/Destino | E49: IDA | G49: VOLTA | I49: Tarifa | J49: Taxas | K49: Valor Total
E50: Data | F50: Horário | G50: Data | H50: Horário
...

Sheet Dezembro
A1: PASSAGENS AÉREAS Período: 01/12/2017 a 31/12/2017
A3: Companhia Aérea | B3: Emissão | C3: Localizador | D3: Origem/Destino | E3: IDA | G3: VOLTA | I3: Tarifa | J3: Taxas | K3: Valor Total
E4: Data | F4: Horário | G4: Data | H4: Horário
K5: =I5+J5 -> 0
A6: Evento:
A8: Companhia Aérea | B8: Emissão | C8: Localizador | D8: Origem/Destino | E8: IDA | G8: VOLTA | I8: Tarifa | J8: Taxas | K8: Valor Total
E9: Data | F9: Horário | G9: Data | H9: Horário
K10: =I10+J10 -> 0
A11: Evento:
A13: Companhia Aérea | B13: Emissão | C13: Localizador | D13: Origem/Destino | E13: IDA | G13: VOLTA | I13: Tarifa | J13: Taxas | K13: Valor Total
E14: Data | F14: Horário | G14: Data | H14: Horário
K15: =I15+J15 -> 0
A16: Evento:
A18: Companhia Aérea | B18: Emissão | C18: Localizador | D18: Origem/Destino | E18: IDA | G18: VOLTA | I18: Tarifa | J18: Taxas | K18: Valor Total
E19: Data | F19: Horário | G19: Data | H19: Horário
K20: =I20+J20 -> 0
A21: Evento:
A23: Companhia Aérea | B23: Emissão | C23: Localizador | D23: Origem/Destino | E23: IDA | G23: VOLTA | I23: Tarifa | J23: Taxas | K23: Valor Total
E24: Data | F24: Horário | G24: Data | H24: Horário
K25: =I25+J25 -> 0
A26: Evento:
A28: Companhia Aérea | B28: Emissão | C28: Localizador | D28: Origem/Destino | E28: IDA | G28: VOLTA | I28: Tarifa | J28: Taxas | K28: Valor Total
E29: Data | F29: Horário | G29: Data | H29: Horário
K30: =SUM(I30:J30) -> 0
A31: Evento:
A33: Companhia Aérea | B33: Emissão | C33: Localizador | D33: Origem/Destino | E33: IDA | G33: VOLTA | I33: Tarifa | J33: Taxas | K33: Valor Total
E34: Data | F34: Horário | G34: Data | H34: Horário
K35: =SUM(I35:J35) -> 0
A36: Evento:
A37: PASSAGENS AÉREAS Período: 01/12/2017 a 31/12/2017
A39: Companhia Aérea | B39: Emissão | C39: Localizador | D39: Origem/Destino | E39: IDA | G39: VOLTA | I39: Tarifa | J39: Taxas | K39: Valor Total
E40: Data | F40: Horário | G40: Data | H40: Horário
K41: =I41+J41 -> 0
A42: Evento:
A44: Companhia Aérea | B44: Emissão | C44: Localizador | D44: Origem/Destino | E44: IDA | G44: VOLTA | I44: Tarifa | J44: Taxas | K44: Valor Total
E45: Data | F45: Horário | G45: Data | H45: Horário
K46: =I46+J46 -> 0
A47: Evento:
A49: Companhia Aérea | B49: Emissão | C49: Localizador | D49: Origem/Destino | E49: IDA | G49: VOLTA | I49: Tarifa | J49: Taxas | K49: Valor Total
E50: Data | F50: Horário | G50: Data | H50: Horário
...

Sheet Plan13 (2)
A1: Valor Total | B1: 70700
A2: Janeiro | B2: =B1-Janeiro!K60 -> 59193.8
A3: Fevereiro | B3: =B2-Fevereiro!K17 -> 58388.7
A4: Março | B4: =B3-Março!K106 -> 58388.7
A5: Abril | B5: =B4-Março!K107 -> 58388.7
A6: Maio | B6: =B5-Março!K108 -> 58388.7
A7: Junho | B7: =B6-Março!K109 -> 58388.7
A8: Julho | B8: =B7-Março!K110 -> 58388.7
A9: Agosto | B9: =B8-Março!K111 -> 58388.7
A10: Setembro | B10: =B9-Março!K112 -> 58388.7
A11: Outubro | B11: =B10-Março!K113 -> 58388.7
A12: Novembro | B12: =B11-Março!K114 -> 58388.7
A13: Dezembro | B13: =B12-Março!K115 -> 58388.7
